BEGIN:VCALENDAR
VERSION:2.0
PRODID:-//ChristedBride - ECPv6.15.20//NONSGML v1.0//EN
CALSCALE:GREGORIAN
METHOD:PUBLISH
X-ORIGINAL-URL:https://christedbride.com
X-WR-CALDESC:Events for ChristedBride
REFRESH-INTERVAL;VALUE=DURATION:PT1H
X-Robots-Tag:noindex
X-PUBLISHED-TTL:PT1H
BEGIN:VTIMEZONE
TZID:America/Phoenix
BEGIN:STANDARD
TZOFFSETFROM:-0700
TZOFFSETTO:-0700
TZNAME:MST
DTSTART:20210101T000000
END:STANDARD
END:VTIMEZONE
BEGIN:VEVENT
DTSTART;TZID=America/Phoenix:20221130T060000
DTEND;TZID=America/Phoenix:20221130T190000
DTSTAMP:20260421T232652
CREATED:20221019T183653Z
LAST-MODIFIED:20221112T212313Z
UID:24162-1669788000-1669834800@christedbride.com
SUMMARY:Filming Production Day 8
DESCRIPTION:Filming New Workshop Online Course “40 Days of Transmutation” \nFilming Section 1 of the Workbook -13 episodes \nBy Red Room Studios Production  Day 8
URL:https://christedbride.com/event/filming-production-day-8/
END:VEVENT
BEGIN:VEVENT
DTSTART;TZID=America/Phoenix:20221129T060000
DTEND;TZID=America/Phoenix:20221129T190000
DTSTAMP:20260421T232652
CREATED:20221019T183515Z
LAST-MODIFIED:20221112T212339Z
UID:24159-1669701600-1669748400@christedbride.com
SUMMARY:Filming Production Day 7
DESCRIPTION:Filming New Workshop Online Course “40 Days of Transmutation” \nFilming Section 1 of the Workbook -13 episodes \nBy Red Room Studios Production  Day 7
URL:https://christedbride.com/event/filming-production-day/
END:VEVENT
BEGIN:VEVENT
DTSTART;TZID=America/Phoenix:20221103T050000
DTEND;TZID=America/Phoenix:20221103T200000
DTSTAMP:20260421T232652
CREATED:20220915T020409Z
LAST-MODIFIED:20220915T020409Z
UID:23760-1667451600-1667505600@christedbride.com
SUMMARY:Filming Production Day 6
DESCRIPTION:Filming New Workshop Online Course “40 Days of Transmutation” \nFilming Workbook Introduction Video and Section 1 of the Workbook -13 episodes \nBy Red Room Studios Production  Day 6
URL:https://christedbride.com/event/filming-production-day-6/
END:VEVENT
BEGIN:VEVENT
DTSTART;TZID=America/Phoenix:20221102T050000
DTEND;TZID=America/Phoenix:20221102T200000
DTSTAMP:20260421T232652
CREATED:20220915T020250Z
LAST-MODIFIED:20220915T020250Z
UID:23758-1667365200-1667419200@christedbride.com
SUMMARY:Filming Production Day 5
DESCRIPTION:Filming New Workshop Online Course “40 Days of Transmutation” \nFilming Workbook Introduction Video and Section 1 of the Workbook -13 episodes \nBy Red Room Studios Production  Day 5
URL:https://christedbride.com/event/filming-production-day-5/
END:VEVENT
BEGIN:VEVENT
DTSTART;TZID=America/Phoenix:20221101T050000
DTEND;TZID=America/Phoenix:20221101T200000
DTSTAMP:20260421T232652
CREATED:20220915T020112Z
LAST-MODIFIED:20220915T020112Z
UID:23756-1667278800-1667332800@christedbride.com
SUMMARY:Filming Production Day 4
DESCRIPTION:Filming New Workshop Online Course “40 Days of Transmutation” \nFilming Workbook Introduction Video and Section 1 of the Workbook -13 episodes \nBy Red Room Studios Production  Day 4
URL:https://christedbride.com/event/filming-production-day-4/
END:VEVENT
BEGIN:VEVENT
DTSTART;TZID=America/Phoenix:20221013T050000
DTEND;TZID=America/Phoenix:20221013T200000
DTSTAMP:20260421T232652
CREATED:20220915T015925Z
LAST-MODIFIED:20220919T214009Z
UID:23753-1665637200-1665691200@christedbride.com
SUMMARY:Filming Production Day 3
DESCRIPTION:Filming New Workshop Online Course “40 Days of Transmutation” \nFilming Workbook Introduction Video and Section 1 of the Workbook -13 episodes \nBy Red Room Studios Production  Day 3
URL:https://christedbride.com/event/filming-production-day-3/
END:VEVENT
BEGIN:VEVENT
DTSTART;TZID=America/Phoenix:20221012T050000
DTEND;TZID=America/Phoenix:20221012T200000
DTSTAMP:20260421T232652
CREATED:20220915T015728Z
LAST-MODIFIED:20220919T214036Z
UID:23751-1665550800-1665604800@christedbride.com
SUMMARY:Filming Production Day 2
DESCRIPTION:Filming New Workshop Online Course “40 Days of Transmutation” \nFilming Workbook Introduction Video and Section 1 of the Workbook -13 episodes \nBy Red Room Studios Production  Day 2
URL:https://christedbride.com/event/filming-production-day-2/
END:VEVENT
BEGIN:VEVENT
DTSTART;TZID=America/Phoenix:20221011T050000
DTEND;TZID=America/Phoenix:20221011T200000
DTSTAMP:20260421T232652
CREATED:20220915T015307Z
LAST-MODIFIED:20220919T214103Z
UID:23747-1665464400-1665518400@christedbride.com
SUMMARY:Filming Production Day 1
DESCRIPTION:Filming New Workshop Online Course “40 Days of Transmutation” \nFilming Workbook Introduction Video and Section 1 of the Workbook -13 episodes \nBy Red Room Studios Production \n 
URL:https://christedbride.com/event/filming-production-day-1/
END:VEVENT
END:VCALENDAR