BEGIN:VCALENDAR
VERSION:2.0
PRODID:-//ChristedBride - ECPv6.15.20//NONSGML v1.0//EN
CALSCALE:GREGORIAN
METHOD:PUBLISH
X-WR-CALNAME:ChristedBride
X-ORIGINAL-URL:https://christedbride.com
X-WR-CALDESC:Events for ChristedBride
REFRESH-INTERVAL;VALUE=DURATION:PT1H
X-Robots-Tag:noindex
X-PUBLISHED-TTL:PT1H
BEGIN:VTIMEZONE
TZID:America/Phoenix
BEGIN:STANDARD
TZOFFSETFROM:-0700
TZOFFSETTO:-0700
TZNAME:MST
DTSTART:20240101T000000
END:STANDARD
END:VTIMEZONE
BEGIN:VEVENT
DTSTART;VALUE=DATE:20250629
DTEND;VALUE=DATE:20250630
DTSTAMP:20260421T232819
CREATED:20250610T175854Z
LAST-MODIFIED:20250610T225518Z
UID:32873-1751155200-1751241599@christedbride.com
SUMMARY:Photoshoot - Blazing a Trail ~ New Bridal Pics
DESCRIPTION:Red Room Studios Photoshoot – Blazing a Trail ~ New Bridal Pics \nMerging both Companies as Landing page \nNew Bridal images
URL:https://christedbride.com/event/photoshoot-blazing-a-trail-new-bridal-pics/
CATEGORIES:not open to public
END:VEVENT
END:VCALENDAR